BEGIN:VCALENDAR
VERSION:2.0
PRODID:-//My Community Diary//iCal Event//EN
CALSCALE:GREGORIAN
METHOD:PUBLISH
BEGIN:VEVENT
UID:5eb53989-8469-4d16-90cc-45df4190b7d0
DTSTAMP:20260424T160715Z
DTSTART:20201201T080000Z
DTEND:20201201T170000Z
SUMMARY:Physician - Paediatrics - Registrar - Barcaldine
DESCRIPTION:Central West Hospital and Health Service at Barcaldine Hospital. Please confirm precise times with the service provider.
LOCATION:\, Oak Street\, Barcaldine\, QLD\, 4725\, QLD\, 4725
END:VEVENT
END:VCALENDAR
