BEGIN:VCALENDAR
VERSION:2.0
PRODID:-//My Community Diary//iCal Event//EN
CALSCALE:GREGORIAN
METHOD:PUBLISH
BEGIN:VEVENT
UID:6a674a12-388a-4279-88bd-490a2571a28a
DTSTAMP:20260424T160643Z
DTSTART:20210518T080000Z
DTEND:20210518T170000Z
SUMMARY:Registered Nurse - Womens Health - Inglewood
DESCRIPTION:True Relationships & Reproductive Health at Inglewood. Please confirm precise times with the service provider.
LOCATION:\, Inglewood\, QLD\, 4387\, QLD\, 4387
END:VEVENT
END:VCALENDAR
