BEGIN:VCALENDAR
VERSION:2.0
PRODID:-//My Community Diary//iCal Event//EN
CALSCALE:GREGORIAN
METHOD:PUBLISH
BEGIN:VEVENT
UID:924601e0-b699-480b-a2d0-a512b8b57e69
DTSTAMP:20260424T160640Z
DTSTART:20201207T080000Z
DTEND:20201207T170000Z
SUMMARY:Physiotherapy - Clermont
DESCRIPTION:BAM Physio Pty Ltd at Clermont. Please confirm precise times with the service provider.
LOCATION:\, Clermont\, QLD\, 4721\, QLD\, 4721
END:VEVENT
END:VCALENDAR
