BEGIN:VCALENDAR
VERSION:2.0
PRODID:-//My Community Diary//iCal Event//EN
CALSCALE:GREGORIAN
METHOD:PUBLISH
BEGIN:VEVENT
UID:1a951935-d1c6-4e23-baeb-acd59795408c
DTSTAMP:20260424T164558Z
DTSTART:20230702T000000Z
DTEND:20230702T235959Z
SUMMARY:Swan Bay Express Train Rides
DESCRIPTION:Travel across the Bellarine along Swan Bay and through remnant bushland. Sit back in the comfortable leather seats as the train traverses rural farmland on its way to Queenscliff and skirts the foreshore around Swan Bay during the eight-kilometre trip.\n\nTrains run on most Sundays year-round and on selected public holidays. Family activities and specials are offered during the Victorian school holidays. Private carriage hire is offered whenever the service is running and is ideal for gatherings of 20 or more\, bookings are essential. All trips are currently departing from Queenscliff Station only.\n\nOn running days trips will depart at 11:00am\, 12:00pm and 2:15pm. \n\nPlease note that seats may be limited and bookings are recommended to avoid disappointment. \n\nVisit the website for the details.
LOCATION:\, 20 Symonds Street\, Queenscliff\, VIC 3225\, VIC\, 3225
RRULE:FREQ=DAILY;INTERVAL=1;UNTIL=20240226T000000Z
END:VEVENT
END:VCALENDAR
