BEGIN:VCALENDAR
VERSION:2.0
PRODID:-//My Community Diary//iCal Event//EN
CALSCALE:GREGORIAN
METHOD:PUBLISH
BEGIN:VEVENT
UID:247e38c7-6741-43e9-ae16-b865f08657c8
DTSTAMP:20260424T160020Z
DTSTART:20240224T180000Z
DTEND:20240224T230000Z
SUMMARY:150km Feast
DESCRIPTION:Welcome to the fourth 150km Feast event\, celebrating good food\, good wine and good company while acknowledging the annual harvest.  This is an opportunity for the community to applaud the region's farmers\, winemakers\, breweries\, gin distilleries\, growers\, producers and providers of services within 150km of Horsham. \n\nThis event is the Horsham Agricultural Society's number one fundraiser.\n\nExperience some of the Wimmera and Grampians' finest seasonal produce with an exclusive selection of ingredients sourced from within 150 kilometres of Horsham to create a five-course meal\, served outdoors at Maydale Reserve utilising the newly opened Stable One.\n\nLocal chefs will provide you with a divine menu to be enjoyed with local wines and brewed beer.\n\nSubtle light bathing the river gums to complement the event’s rustic styling will have everyone immersed in good conversation while consuming ice cold-brewed beer for a hot summer’s night\, wine from grapes grown in the region.\n\nTickets include food\, drinks and entertainment.\n\nEntry Cost\nAll tickets $150  - Adults 18 years and over
LOCATION:\, 22 McBryde Street Horsham Showgrounds\, Horsham\, VIC 3400\, VIC\, 3400
END:VEVENT
END:VCALENDAR
