BEGIN:VCALENDAR
VERSION:2.0
PRODID:-//My Community Diary//iCal Event//EN
CALSCALE:GREGORIAN
METHOD:PUBLISH
BEGIN:VEVENT
UID:cae091dc-16de-409f-b0ad-5c8c53915bf9
DTSTAMP:20260424T160643Z
DTSTART:20220827T100000Z
DTEND:20220827T130000Z
SUMMARY:Kalangadoo Farmers Market
DESCRIPTION:Our weekly farmer's market has great benefits both to the community and to local farmers\, artists and craftsmen.\nIt stimulates profitable trading \; promotes viability and business growth of independent primary producers\, home gardeners and makers of value-added products\; it enables a regular supply of fresh food to customers\; it is an avenue for local artists and artisans to sell their work\; it provides growth of other businesses in Kalangadoo\; it allows volunteer work for our community\; it gives a rewarding experience to tourists\; the cafe allows a meeting venue and social occasion for many visitors\; the BBQ lures hungry customers for a snack.\nOur market began on the 9th of April 2011 and is continuing to be a success to this day.\nThe KFM is located on Eliza Street in Kalangadoo and can easily be found by following the signs.
LOCATION:\, 19 Eliza Street\, Kalangadoo\, SA 5278\, SA\, 5278
RRULE:FREQ=WEEKLY;INTERVAL=1;BYDAY=SA;UNTIL=20240128T000000Z
END:VEVENT
END:VCALENDAR
