BEGIN:VCALENDAR
VERSION:2.0
PRODID:-//My Community Diary//iCal Event//EN
CALSCALE:GREGORIAN
METHOD:PUBLISH
BEGIN:VEVENT
UID:5bee2097-d582-47f4-9030-1ef5aeb34e64
DTSTAMP:20260424T160638Z
DTSTART:20240517T000000Z
DTEND:20240517T235959Z
SUMMARY:Clare Valley SCA Gourmet Week 2024
DESCRIPTION:Forty years of the Clare Valley SCA Gourmet Week will be celebrated from Friday May 17 to Sunday May 26\, 2024. To celebrate the anniversary of Australia's longest running food and wine event of its kind\, we've got some exciting plans to make it bigger and better than ever before!\n\nFriday 17 to  Sunday 19 – Festival Weekend\nJust like you’ve always known it… music\, food\, wine tastings and more\n\nMonday  20 to Friday 24  – Breathe it in\nExtend your stay and delve deep into the heart of the Clare Valley.  Breathe in the essence of the region with a calendar of masterclasses\, cooking schools\, historical tours\, meet the winemaker\, art exhibitions and more… \n\nSaturday 25 to Sunday 26 – welcome to… Land of the Long Lunch!\nHosted in unique and hidden away locations… a series of long lunches staged throughout the region in collaboration with restaurants and food personalities. \n\nThe full program will be released in March 2024\, but don't wait until the last minute – book your accommodation now as the region fills up quickly.
LOCATION:\, Clare\, SA 5453\, SA\, 5453
RRULE:FREQ=DAILY;INTERVAL=1;UNTIL=20240527T000000Z
END:VEVENT
END:VCALENDAR
