BEGIN:VCALENDAR
VERSION:2.0
PRODID:-//My Community Diary//iCal Event//EN
CALSCALE:GREGORIAN
METHOD:PUBLISH
BEGIN:VEVENT
UID:d125a201-a1ff-4bd6-bde3-7c8e74c364b1
DTSTAMP:20260424T181537Z
DTSTART:20240505T000000Z
DTEND:20240505T235959Z
SUMMARY:HOKA Runaway Sydney Half Marathon
DESCRIPTION:For a few amazing hours in perfect Autumn running conditions\, the best of Sydney’s city streets are yours to enjoy. None of the big city hustle and bustle\, just wide-open city streets\, stunning views and the buzz of Australia’s biggest half-marathon all around you.\n\nEach year more than 12\,000 athletes compete in the prestigious race\, which takes runners on a spectacular 21.1-kilometre course taking in the best of Sydney's iconic landscape\, including views of the Sydney Opera House\, Harbour Bridge\, The Rocks and Pyrmont Peninsula. \n\nThe most impressive race of its kind in Australia\, the Half Marathon and 10 kilmetre courses attracts a mix of local\, interstate and overseas runners\, coming together to challenge themselves and achieve a personal best.\n\nPut your physical and mental limits to the test in 2024!
LOCATION:\, Cahill Expressway\, Sydney\, NSW 2000\, NSW\, 2000
END:VEVENT
END:VCALENDAR
