BEGIN:VCALENDAR
VERSION:2.0
PRODID:-//My Community Diary//iCal Event//EN
CALSCALE:GREGORIAN
METHOD:PUBLISH
BEGIN:VEVENT
UID:d987b173-3dea-431c-ab29-53435586217b
DTSTAMP:20260424T164402Z
DTSTART:20230821T103000Z
DTEND:20230821T123000Z
SUMMARY:Pickleball
DESCRIPTION:Pickleball is one of the fastest-growing sports in the USA with over 4 million people playing - it is booming! And the good news is\, it's really starting to take off in Australia. If you are looking for a social and fun sport to play then give Pickleball a try.\n\nPickleball is played on a badminton-sized court with a low net like tennis and over-sized ping pong paddles and a wiffle ball. It can be played indoors or outside\, and you can play singles or doubles. The idea is to play to 11\, winning by 2\, and you can only score points on the serve. On average a game takes between 10 - 20 minutes.\n\nEntry Cost\nAll tickets $7 
LOCATION:\, 63 Cherry Street\, Ballina\, NSW 2478\, NSW\, 2478
RRULE:FREQ=DAILY;INTERVAL=4;UNTIL=20240325T000000Z
END:VEVENT
END:VCALENDAR
