BEGIN:VCALENDAR
VERSION:2.0
PRODID:-//My Community Diary//iCal Event//EN
CALSCALE:GREGORIAN
METHOD:PUBLISH
BEGIN:VEVENT
UID:a298f67a-98cd-4e18-9ee0-dea7836dadf6
DTSTAMP:20260424T161012Z
DTSTART;TZID=E. Australia Standard Time:20201208T083000
DTEND;TZID=E. Australia Standard Time:20201208T103000
SUMMARY:Pickleball Fun out of the weather
DESCRIPTION:&nbsp\;We play Pickleball every Tuesday after 8:30am and Wednesday after 6pm.&nbsp\; Everyone is welcome.&nbsp\;\n
LOCATION:Tully/Mission Beach Pickleball Club inc\,  Pavilion 1\, Showgrounds\, Butler Street Tully QLD 4854\, QLD\, 4854
RRULE:FREQ=WEEKLY;INTERVAL=1;BYDAY=TU
END:VEVENT
END:VCALENDAR
