BEGIN:VCALENDAR
VERSION:2.0
PRODID:-//My Community Diary//iCal Event//EN
CALSCALE:GREGORIAN
METHOD:PUBLISH
BEGIN:VEVENT
UID:8af499fa-3c5d-453d-ad96-91a924e3b24c
DTSTAMP:20260424T160717Z
DTSTART;TZID=E. Australia Standard Time:20210204T173000
DTEND;TZID=E. Australia Standard Time:20210204T190000
SUMMARY:Family History Online Workshop
DESCRIPTION:Mackay Family History Society and libraries present workshops to showcase Genealogy resources plus Ancestry.com (Library Edition).\n\nReceive an overview of online family history resources available at your local\, state and national libraries.\n\nBook online at&nbsp\;https://www.eventbrite.com.au/e/118252627793\n
LOCATION:Dudley Denny City Library\, 134 Victoria Street\, Mackay QLD 4740\, QLD\, 4740
RRULE:FREQ=MONTHLY;INTERVAL=1;BYDAY=3MO;COUNT=10
END:VEVENT
END:VCALENDAR
