BEGIN:VCALENDAR
VERSION:2.0
PRODID:-//My Community Diary//iCal Event//EN
CALSCALE:GREGORIAN
METHOD:PUBLISH
BEGIN:VEVENT
UID:7200598d-4910-4573-b410-c6cf7f3eb656
DTSTAMP:20260424T160117Z
DTSTART;TZID=E. Australia Standard Time:20210121T173000
DTEND;TZID=E. Australia Standard Time:20210121T190000
SUMMARY:Anime Manga Club
DESCRIPTION:Come on out Anime and Manga fans! \n\nA place to share your favourites or most despised story ideas\, drawings and all things Japanese.\n\nGordon White library 5.30pm to 7pm\nThursday\, January 21 and Thursday\, February 18\n\nThis program is for young adults aged 12 to 18 years.\n\nhttps://www.eventbrite.com.au/e/anime-manga-club-tickets-129803380405\n\nFebruary - https://www.eventbrite.com.au/e/anime-manga-club-tickets-129803687323\n
LOCATION:Gordon White Library\, 54 Phillip Street\, Mount Pleasant QLD 4740\, QLD\, 4740
RRULE:FREQ=MONTHLY;INTERVAL=1;BYDAY=3MO;UNTIL=20211119T000000Z
END:VEVENT
END:VCALENDAR
