BEGIN:VCALENDAR
VERSION:2.0
PRODID:-//My Community Diary//iCal Event//EN
CALSCALE:GREGORIAN
METHOD:PUBLISH
BEGIN:VEVENT
UID:2f15da6e-f798-4eec-899c-2fac8a20fbb2
DTSTAMP:20260424T160642Z
DTSTART;VALUE=DATE:20210118
DTEND;VALUE=DATE:20210119
SUMMARY:Wrap With Love
DESCRIPTION:We're still participating in the Wrap with Love program. Keen knitters and crocheters can drop their knitted and crocheted squares into any of our 3 libraries\, to help provide more than 30\,000 people with love and warmth this year\, in Australia and around the World.\n\nThe knitted or crocheted squares for wraps are to measure: 25cm x 25cm (10 inches x 10 inches) each. Knitting pattern – use size 8 (4mm) needles and 8 ply yarn. (A combination equivalent to 8 ply is also acceptable). Cast on 50-55 stiches and knit each row in plain stitch. Please do not use stocking stitch as this curls and is not easy to sew with other squares.\n\nIf you're unable to drop your squares into the Library\, or need some 8 ply wool to continue making the squares\, please contact us on 6648 4900 or&nbsp\;email us&nbsp\;to make alternative arrangements.\n
LOCATION:Harry Bailey Memorial Library\, 27 Duke Street\, Coffs Harbour NSW 2450\, NSW\, 2450
RRULE:FREQ=DAILY;INTERVAL=1;UNTIL=20211204T000000Z
END:VEVENT
END:VCALENDAR
