BEGIN:VCALENDAR
VERSION:2.0
PRODID:-//My Community Diary//iCal Event//EN
CALSCALE:GREGORIAN
METHOD:PUBLISH
BEGIN:VEVENT
UID:5ebb27fc-5965-458d-8eb5-da8c0b08d729
DTSTAMP:20260424T164531Z
DTSTART;TZID=W. Australia Standard Time:20210208T093000
DTEND;TZID=W. Australia Standard Time:20210208T110000
SUMMARY:Music Tardis 3
DESCRIPTION:Six week music course with Rachel John\n
LOCATION:University of the Third Age - Armadale\, Ninth Road\, Brookdale WA 6112\, WA\, 6112
RRULE:FREQ=MONTHLY;INTERVAL=1;BYMONTHDAY=8;UNTIL=20210709T000000Z
END:VEVENT
END:VCALENDAR
