BEGIN:VCALENDAR
VERSION:2.0
PRODID:-//My Community Diary//iCal Event//EN
CALSCALE:GREGORIAN
METHOD:PUBLISH
BEGIN:VEVENT
UID:f18e5a86-644d-4cb1-b315-a428d7b9d91a
DTSTAMP:20260424T160650Z
DTSTART;VALUE=DATE:20210107
DTEND;VALUE=DATE:20210108
SUMMARY:STILL 2021 Call for Entries
DESCRIPTION:&nbsp\;\n\nStill is a biennial\, acquisitive award for artworks in the genre of still life\, in all mediums. The award is open to artists at all stages of their careers.\n\nStill: National Still Life Award seeks to highlight the diversity and vitality of still life in Australian contemporary art practice\, broadening the interpretation and meaning of this enduring genre.\n\n&nbsp\;\n\nCall for Entries\n\nEntries&nbsp\;Open 18 January 2021\n\nEntries Close 12 April 2021\n\n&nbsp\;\n\nAbout the award\n\nStill: National Still Life Award takes a fresh and contemporary approach to still life and its themes\; memento mori\, life and death\, observation of and reverence for everyday objects\, their meaning and memory.\n\n&nbsp\;\n\nThe selection process\n\nFinalists will be selected by a panel which includes Coffs Harbour Regional Gallery staff Cath Fogarty\, Jo Besley\, Chloe Waters\, QAGOMA Indigenous Arts Curator Katina Davidson\, and Sydney based art collector Lisa Paulsen.\n\nThe 2021 guest judge is Elizabeth Ann Macgregor OBE\, Director\, Museum of Contemporary Art Australia.&nbsp\;\n\nAcquisitions from Still become part of the Coffs Harbour Regional Gallery collection.\n\n&nbsp\;\n\nKey dates 2021\n\n&nbsp\; &nbsp\; 18 January - On-line application process opens.\n\n&nbsp\; &nbsp\; 12 April -&nbsp\; Closes midnight (Perth WA time).\n\n&nbsp\; &nbsp\; 14 May - Finalists will be notified by email.\n\n&nbsp\; &nbsp\; 2 July - Art work must be delivered by this date. We will assist with transport of works to the gallery thanks to our sponsor Moving Art.\n\n&nbsp\; &nbsp\; 14 August - The exhibition officially opens and the winner is announced.\n\n&nbsp\;\n\nFind out more about Still: National Still Life Award 2021 and submit your entry at www.coffsharbour.nsw.gov.au/still\n\n&nbsp\;\n\nSign up&nbsp\;to the&nbsp\;Gallery newsletter&nbsp\;to receive updates on STILL 2021\, and revisit STILL&nbsp\;2019 at www.coffsharbour.nsw.gov.au/still&nbsp\;\n\n&nbsp\;\n\nStill: National Still Life Award 2021 is proudly supported by\n\nMajor Sponsors\n\nsaso.creative and Bryant McKinnon Lawyers\n\nSupporting Sponsors\n\nFriends of Coffs Harbour Regional Gallery\, Moving Art and Andrew Peace Wines\n
LOCATION:Coffs Harbour Regional Gallery\, Coffs Harbour NSW 2450\, NSW\, 2450
RRULE:FREQ=DAILY;INTERVAL=1;UNTIL=20210413T000000Z
END:VEVENT
END:VCALENDAR
