BEGIN:VCALENDAR
VERSION:2.0
PRODID:-//My Community Diary//iCal Event//EN
CALSCALE:GREGORIAN
METHOD:PUBLISH
BEGIN:VEVENT
UID:15c9dbf2-d5f5-4444-a8fb-c395b0cc035d
DTSTAMP:20260424T160024Z
DTSTART;TZID=E. Australia Standard Time:20210225T193000
DTEND;TZID=E. Australia Standard Time:20210225T210000
SUMMARY:Free Beginner Yoga Workshop
DESCRIPTION:This workshop at Inna Essence is the very thing to begin your journey with Yoga in a safe\, nurturing space.\n\nYou will be introduced to the benefits &amp\; foundations of Yoga.\n\nThis workshop is for you if you’re an absolute beginner\, returning in a post-natal position or if you just&nbsp\;want to revisit the basics and strengthen your personal practice.\n\nFREE\n
LOCATION:Inna Essence\, Level 1\, 3245 Logan Road Underwood QLD 4119\, QLD\, 4119
END:VEVENT
END:VCALENDAR
