BEGIN:VCALENDAR
VERSION:2.0
PRODID:-//My Community Diary//iCal Event//EN
CALSCALE:GREGORIAN
METHOD:PUBLISH
BEGIN:VEVENT
UID:1d91679c-158d-46a0-8c69-dadf911cceda
DTSTAMP:20260424T160717Z
DTSTART;TZID=E. Australia Standard Time:20201106T153000
DTEND;TZID=E. Australia Standard Time:20201106T173000
SUMMARY:Envcourage Music program
DESCRIPTION:Open mic and a live music jam. Each week we have a topic for the song. Everyone writes and has a part in the song which leads into us recording the song and performing the song at a local event.\n\nFridays during school terms\n
LOCATION:Police-Citizens Youth Club (PCYC) - Crestmead\, Crestmead Community Park Gimlet St\, Crestmead QLD 4132\, QLD\, 4132
RRULE:FREQ=WEEKLY;INTERVAL=1;BYDAY=FR
END:VEVENT
END:VCALENDAR
