BEGIN:VCALENDAR
VERSION:2.0
PRODID:-//My Community Diary//iCal Event//EN
CALSCALE:GREGORIAN
METHOD:PUBLISH
BEGIN:VEVENT
UID:5331c355-3312-4d7c-9143-70a7515cc507
DTSTAMP:20260424T160024Z
DTSTART;TZID=E. Australia Standard Time:20201104T153000
DTEND;TZID=E. Australia Standard Time:20201104T173000
SUMMARY:Made by You Youth program
DESCRIPTION:Every Wednesday during school term 3.30-530pm we run a creative arts program using the elements of Arts &amp\; Craft\, Sewing\, Painting\, Spray painting\, and Cooking teaching young people how to create their own designs and enjoy them with their loved ones. We have elders from the community that engage in the program to help with sharing life skills\, being positive role models\, and mentoring.\n
LOCATION:Police-Citizens Youth Club (PCYC) - Crestmead\, Crestmead Community Park Gimlet St\, Crestmead QLD 4132\, QLD\, 4132
RRULE:FREQ=WEEKLY;INTERVAL=1;BYDAY=WE
END:VEVENT
END:VCALENDAR
