BEGIN:VCALENDAR
VERSION:2.0
PRODID:-//My Community Diary//iCal Event//EN
CALSCALE:GREGORIAN
METHOD:PUBLISH
BEGIN:VEVENT
UID:d8e50b86-5463-4fa4-91e2-f3d6c1e3df30
DTSTAMP:20260424T154958Z
DTSTART;TZID=E. Australia Standard Time:20201105T083000
DTEND;TZID=E. Australia Standard Time:20201105T130000
SUMMARY:Crestmead Artist
DESCRIPTION:Crestmead Artists is a warm and friendly group of people who get together socially to share their love of many different forms of painting from a beginner to the more advanced. The club has been running for 20 years and is and is non for profit who puts all money that made back into the club for the members benefits. &nbsp\;\n\nVarious media – Oils\, Watercolours\, Acrylics\, Pastels\, Drawing\, etc\n\nFrom beginners to talented\n
LOCATION:Police-Citizens Youth Club (PCYC) - Crestmead\, Crestmead Community Park Gimlet St\, Crestmead QLD 4132\, QLD\, 4132
RRULE:FREQ=WEEKLY;INTERVAL=1;BYDAY=TH
END:VEVENT
END:VCALENDAR
