BEGIN:VCALENDAR
VERSION:2.0
PRODID:-//My Community Diary//iCal Event//EN
CALSCALE:GREGORIAN
METHOD:PUBLISH
BEGIN:VEVENT
UID:8139f209-aaad-4729-9655-fddaff0e43bc
DTSTAMP:20260424T160106Z
DTSTART;TZID=E. Australia Standard Time:20201104T110000
DTEND;TZID=E. Australia Standard Time:20201104T120000
SUMMARY:Immunisation Clinic
DESCRIPTION:The Logan City Council Immunisation program&nbsp\;is a simple\, safe and effective way of protecting against harmful diseases and offered at the Crestmead pcyc.\n\nImmunisation program offers the vaccinations listed under the National Immunisation Program Schedule and operates within the National Health and Medical Research Council (NH&amp\;MRC) guidelines\n\nNo appointment is required but we encourage you to arrive at least 20 minutes before closing time. Please bring your Medicare card\, photo ID and your child’s child health book if applicable.&nbsp\;\n
LOCATION:Police-Citizens Youth Club (PCYC) - Crestmead\, Crestmead Community Park Gimlet St\, Crestmead QLD 4132\, QLD\, 4132
RRULE:FREQ=WEEKLY;INTERVAL=1;BYDAY=WE
END:VEVENT
END:VCALENDAR
