BEGIN:VCALENDAR
VERSION:2.0
PRODID:-//My Community Diary//iCal Event//EN
CALSCALE:GREGORIAN
METHOD:PUBLISH
BEGIN:VEVENT
UID:d2ad3eda-5be8-41f4-b978-29394db87681
DTSTAMP:20260424T155451Z
DTSTART;TZID=E. Australia Standard Time:20201104T090000
DTEND;TZID=E. Australia Standard Time:20201104T120000
SUMMARY:Craft Group
DESCRIPTION:Craft is a social group that runs each week to support like-minded adults with similar interest. Each week the group comes together for a cuppa and a chat whilst working on a craft of choice. Whether you are interested in crochet\, needlepoint\, card making or scrapbooking\, this class offers the space for your creativity to flow. Coffee\, tea and biscuits are provided.\n
LOCATION:Police-Citizens Youth Club (PCYC) - Crestmead\, Crestmead Community Park Gimlet St\, Crestmead QLD 4132\, QLD\, 4132
RRULE:FREQ=WEEKLY;INTERVAL=1;BYDAY=WE
END:VEVENT
END:VCALENDAR
