BEGIN:VCALENDAR
VERSION:2.0
PRODID:-//My Community Diary//iCal Event//EN
CALSCALE:GREGORIAN
METHOD:PUBLISH
BEGIN:VEVENT
UID:3f1a6852-3aed-43c3-bf37-6c79a86f4c2d
DTSTAMP:20260424T160026Z
DTSTART;TZID=E. Australia Standard Time:20201102T093000
DTEND;TZID=E. Australia Standard Time:20201102T120000
SUMMARY:Lovely Ladies of Loganlea
DESCRIPTION:Lovely Ladies of Loganlea meet every Monday morning for morning tea\, for a chat\, special guests\, outings etc Cost is $3\n\nFrom 9:30am to 12pm&nbsp\;&nbsp\;at Loganlea Community Centre 28-32 Timms St Loganlea\n
LOCATION:Loganlea Community Centre\, 28-32 Timms St\, Loganlea QLD 4131\, QLD\, 4131
RRULE:FREQ=WEEKLY;INTERVAL=1;BYDAY=MO
END:VEVENT
END:VCALENDAR
