BEGIN:VCALENDAR
VERSION:2.0
PRODID:-//My Community Diary//iCal Event//EN
CALSCALE:GREGORIAN
METHOD:PUBLISH
BEGIN:VEVENT
UID:745a20a7-dd44-4ded-9427-7c25fe27a50e
DTSTAMP:20260424T160803Z
DTSTART;TZID=Cen. Australia Standard Time:20210810T220000
DTEND;TZID=Cen. Australia Standard Time:20210810T223000
SUMMARY:Beep: Presented by Windmill Theatre Company
DESCRIPTION:A slightly sideways tale about unexpected friendship\, finding where you fit and learning to mix it up a little.\n\nIn Mort’s Village everything has its place\, every day is the same and everyone likes it that way. Until one morning\, crash\, boom\, bang… down comes Beep.\n\nWhat is this annoying interruption to Mort’s breakfast molly melon\, who is this noisy robot girl\, and how will she find her home?\n\nWith Windmill’s trademark design\, gentle storytelling\, music and puppetry\, Beep tells the story of what happens when someone new comes to town.\n
LOCATION:Northern Festival Centre\, 106 Gertrude Street\, Port Pirie SA 5540\, SA\, 5540
END:VEVENT
END:VCALENDAR
