BEGIN:VCALENDAR
VERSION:2.0
PRODID:-//My Community Diary//iCal Event//EN
CALSCALE:GREGORIAN
METHOD:PUBLISH
BEGIN:VEVENT
UID:38739b35-ee97-4b25-9885-c1d253747834
DTSTAMP:20260424T160715Z
DTSTART;VALUE=DATE:20201028
DTEND;VALUE=DATE:20201029
SUMMARY:Krispy Kreme Fundraiser
DESCRIPTION:SPREAD THE WORD AND ORDER NOW\n\nAll orders need to be PAID and received at Clermont Kindy Reception or Via Email clermontdaycare@bigpond.com&nbsp\;&nbsp\;\nby the 02/11/2020 with your name\, type of DOZEN and How Many DOZEN.\n\nYou can Electronically Transfer Funds to the following Bank Account with your name as reference.\n\nName: Clermont Kindy Day Care\nBSB: 014 550\nAcc#: 398 894 891\n\nOrders will be ready for COLLECTION at the Clermont Kindy on&nbsp\;&nbsp\;&nbsp\;\nWednesday 18th November between 9am and 5pm.\n\nNEW Online Order Link Below\n\nhttps://www.eventbrite.com.au/e/clermont-kindy-and-daycare-krispy-kreme-fundraiser-tickets-126007571037\n
LOCATION:Clermont Kindergarten & Day Care\, 6 Beatty Street\, Clermont QLD 4721\, QLD\, 4721
RRULE:FREQ=DAILY;INTERVAL=1
END:VEVENT
END:VCALENDAR
