BEGIN:VCALENDAR
VERSION:2.0
PRODID:-//My Community Diary//iCal Event//EN
CALSCALE:GREGORIAN
METHOD:PUBLISH
BEGIN:VEVENT
UID:af30f6a1-7f28-4a85-99a9-d8a6c5c7687a
DTSTAMP:20260424T161012Z
DTSTART;TZID=AUS Eastern Standard Time:20201015T093000
DTEND;TZID=AUS Eastern Standard Time:20201015T150000
SUMMARY:Quilting and Patchwork
DESCRIPTION:Fridays 9.30 -3pm. Quilters\, using both hand and machine techniques\, meet and passionately encourage one another.\n
LOCATION:Cowra Art Group\, Mid Western Highway\, Cowra NSW 2794\, NSW\, 2794
RRULE:FREQ=WEEKLY;INTERVAL=1;BYDAY=FR
END:VEVENT
END:VCALENDAR
