BEGIN:VCALENDAR
VERSION:2.0
PRODID:-//My Community Diary//iCal Event//EN
CALSCALE:GREGORIAN
METHOD:PUBLISH
BEGIN:VEVENT
UID:8d70e335-505c-4b88-836a-2d412b787d2c
DTSTAMP:20260424T160715Z
DTSTART;TZID=AUS Eastern Standard Time:20201015T100000
DTEND;TZID=AUS Eastern Standard Time:20201015T150000
SUMMARY:Spinners
DESCRIPTION:Thursday from 10 am. The group comprises both enthusiastic beginners and spinners with experience.\n
LOCATION:Cowra Art Group\, Mid Western Highway\, Cowra NSW 2794\, NSW\, 2794
RRULE:FREQ=WEEKLY;INTERVAL=1;BYDAY=TH
END:VEVENT
END:VCALENDAR
