BEGIN:VCALENDAR
VERSION:2.0
PRODID:-//My Community Diary//iCal Event//EN
CALSCALE:GREGORIAN
METHOD:PUBLISH
BEGIN:VEVENT
UID:a0c6ab9b-d5ce-4518-b215-529445917bb9
DTSTAMP:20260424T160715Z
DTSTART;TZID=E. Australia Standard Time:20201001T100000
DTEND;TZID=E. Australia Standard Time:20201001T110000
SUMMARY:Tech Talk
DESCRIPTION:Dilemma with a device?\n\nAre there just one or two things confusing you about your phone\, tablet or other device? Come to a free Tech Talk and we’ll figure it out together.\n\nDudley Denny City Library\nEvery Thursday from 10am - 11am\n
LOCATION:Dudley Denny City Library\, 134 Victoria Street\, Mackay QLD 4740\, QLD\, 4740
RRULE:FREQ=WEEKLY;INTERVAL=1;BYDAY=WE
END:VEVENT
END:VCALENDAR
