BEGIN:VCALENDAR
VERSION:2.0
PRODID:-//My Community Diary//iCal Event//EN
CALSCALE:GREGORIAN
METHOD:PUBLISH
BEGIN:VEVENT
UID:16378dc5-f2cf-40da-91db-87d705df4028
DTSTAMP:20260424T165202Z
DTSTART;TZID=AUS Eastern Standard Time:20210324T100000
DTEND;TZID=AUS Eastern Standard Time:20210324T150000
SUMMARY:Tour & Wine Tasting
DESCRIPTION:Douglas Vale Historic Homestead &amp\;&nbsp\;Winery is open today for Tours &amp\;&nbsp\;Wine Tastings. Buy one of our Cheese &amp\; Biscuit platters or&nbsp\;BYO picnic to enjoy in the grounds with the&nbsp\;Douglas Vale Wine of your choice.\n
LOCATION:Douglas Vale Historic Homestead & Vineyard\, 235 Oxley Highway\, Port Macquarie NSW 2444\, NSW\, 2444
RRULE:FREQ=WEEKLY;INTERVAL=1;BYDAY=WE;UNTIL=20251030T000000Z
END:VEVENT
END:VCALENDAR
