BEGIN:VCALENDAR
VERSION:2.0
PRODID:-//My Community Diary//iCal Event//EN
CALSCALE:GREGORIAN
METHOD:PUBLISH
BEGIN:VEVENT
UID:197cbf76-a995-4fb6-b87c-93e5594448c5
DTSTAMP:20260424T160644Z
DTSTART;TZID=AUS Eastern Standard Time:20200922T090000
DTEND;TZID=AUS Eastern Standard Time:20200922T120000
SUMMARY:Mens Social Tennis
DESCRIPTION:Social tennis for the men. All ages and abilities welcome.\n
LOCATION:Cowra Tennis Club Co-Operative\, 1 Grenfell Road\, Cowra NSW 2794\, NSW\, 2794
RRULE:FREQ=WEEKLY;INTERVAL=1;BYDAY=TU
END:VEVENT
END:VCALENDAR
