BEGIN:VCALENDAR
VERSION:2.0
PRODID:-//My Community Diary//iCal Event//EN
CALSCALE:GREGORIAN
METHOD:PUBLISH
BEGIN:VEVENT
UID:46565905-6a5f-4b6e-8574-8ed45fea626c
DTSTAMP:20260424T160520Z
DTSTART;TZID=AUS Eastern Standard Time:20200922T090000
DTEND;TZID=AUS Eastern Standard Time:20200922T120000
SUMMARY:Ladies Social Tennis
DESCRIPTION:\nSocial tennis for the ladies. All ages and abilities welcome.\n
LOCATION:Cowra Tennis Club Co-Operative\, 1 Grenfell Road\, Cowra NSW 2794\, NSW\, 2794
RRULE:FREQ=WEEKLY;INTERVAL=1;BYDAY=TU
END:VEVENT
END:VCALENDAR
