BEGIN:VCALENDAR
VERSION:2.0
PRODID:-//My Community Diary//iCal Event//EN
CALSCALE:GREGORIAN
METHOD:PUBLISH
BEGIN:VEVENT
UID:29cc8741-b84e-4cb8-9021-4bca5d5e0285
DTSTAMP:20260424T173212Z
DTSTART:20240316T000000Z
DTEND:20240316T235959Z
SUMMARY:Max Adventure Race Brisbane
DESCRIPTION:Short\, fast and fun\, and suitable for anyone and everyone with a real sense of and adventure\, the Max Adventure Race Series is designed to offer the perfect introduction to the exhilarating sport of adventure racing.\n\nDesigned for teams of two\, the races are fun\, fast and furious with teams having to change between three core disciplines several times during the event…mountain biking\, trail running and kayaking. These non-stop events will take between two to six hours to complete so there is never any time to get bored or tired – you will constantly be challenged throughout the race\, physically and mentally!\n\nSo\, if you are new to the sport of adventure racing and are looking for an exciting challenge that lives up to your love of outdoors and action-packed adventure\, then the Max Adventure Race Series is a great way to experience what this exhilarating\, growing sport is all about.\n\nEntry Cost\nAll tickets $95  - Novice Course - AUD95-AUD115\nClassic Course - AUD105-AUD125
LOCATION:\, Waterworks Road\, The Gap\, QLD 4061\, QLD\, 4061
END:VEVENT
END:VCALENDAR
