BEGIN:VCALENDAR
VERSION:2.0
PRODID:-//My Community Diary//iCal Event//EN
CALSCALE:GREGORIAN
METHOD:PUBLISH
BEGIN:VEVENT
UID:6f289c5f-a82d-40c9-88c8-ccbaa3335361
DTSTAMP:20260424T164548Z
DTSTART:20221016T100000Z
DTEND:20221016T140000Z
SUMMARY:Lakeside Market Pakenham
DESCRIPTION:Meet\, Talk\, Spend and Eat at this family friendly street food truck and handmade makers market with over 80 stalls.\n\nSet by the side of the stunning Lakeside Lake and in the front of the Cardinia Cultural Centre\, the Market features a choice selection of gourmet food and drink trucks\, live music and quality local makers stalls including fashion\, homewares\, art\, pet products\, natural skincare\, baked goods\, plants and lots more. The market is also dog friendly.\n\nThe market is held on the third Sunday of the month from October to April
LOCATION:\, Lakeside Boulevard Lakeside Amphitheatre\, Pakenham\, VIC 3810\, VIC\, 3810
RRULE:FREQ=DAILY;INTERVAL=1;UNTIL=20240422T000000Z
END:VEVENT
END:VCALENDAR
