BEGIN:VCALENDAR
VERSION:2.0
PRODID:-//My Community Diary//iCal Event//EN
CALSCALE:GREGORIAN
METHOD:PUBLISH
BEGIN:VEVENT
UID:3675f7bc-664a-4762-b464-34aa1393bf09
DTSTAMP:20260424T164435Z
DTSTART;TZID=AUS Eastern Standard Time:20200905T100000
DTEND;TZID=AUS Eastern Standard Time:20200905T120000
SUMMARY:Stitch Gatherers
DESCRIPTION:A meeting of talent and non-talent - learning from each other and the making of beautiful items.\n\nVisitors / New Members welcome.&nbsp\; Social distancing observed.\n\nMeet second Wednesday of the month - PLEASE RING TO CHECK ON TIME AND VENUE\n
LOCATION:North Arm Cove Community Centre\, The Ridgeway\, North Arm Cove NSW 2324\, NSW\, 2324
RRULE:FREQ=MONTHLY;INTERVAL=1;BYMONTHDAY=5
END:VEVENT
END:VCALENDAR
