BEGIN:VCALENDAR
VERSION:2.0
PRODID:-//My Community Diary//iCal Event//EN
CALSCALE:GREGORIAN
METHOD:PUBLISH
BEGIN:VEVENT
UID:f725fe53-a733-43a0-881a-4c74ab8916b3
DTSTAMP:20260422T000850Z
DTSTART;TZID=AUS Eastern Standard Time:20200905T080000
DTEND;TZID=AUS Eastern Standard Time:20200905T100000
SUMMARY:Community Garden
DESCRIPTION:Community Gardeners – Ready for spring/summer crops. We exchange ideas on gardening\, food and have a laugh. All new members are welcome.\n\nSocial distancing observed.\n
LOCATION:North Arm Cove Community Centre\, 297 The Ridgeway\, The Ridgeway North Arm Cove NSW 2324\, NSW\, 2324
RRULE:FREQ=WEEKLY;INTERVAL=1;BYDAY=WE
END:VEVENT
END:VCALENDAR
