BEGIN:VCALENDAR
VERSION:2.0
PRODID:-//My Community Diary//iCal Event//EN
CALSCALE:GREGORIAN
METHOD:PUBLISH
BEGIN:VEVENT
UID:8405f2b0-644b-490e-ba1e-495cfd9a6751
DTSTAMP:20260424T164823Z
DTSTART;TZID=AUS Eastern Standard Time:20200905T173000
DTEND;TZID=AUS Eastern Standard Time:20200905T190000
SUMMARY:Yoga
DESCRIPTION:Visitors welcome - please ring to check on social distancing regulations initially.\n
LOCATION:North Arm Cove Community Centre\, The Ridgeway\, North Arm Cove NSW 2324\, NSW\, 2324
RRULE:FREQ=WEEKLY;INTERVAL=1;BYDAY=TU
END:VEVENT
END:VCALENDAR
