BEGIN:VCALENDAR
VERSION:2.0
PRODID:-//My Community Diary//iCal Event//EN
CALSCALE:GREGORIAN
METHOD:PUBLISH
BEGIN:VEVENT
UID:6f47ec40-0029-4cc0-97f0-d9ce1d1dd801
DTSTAMP:20260424T164651Z
DTSTART;TZID=AUS Eastern Standard Time:20200905T080000
DTEND;TZID=AUS Eastern Standard Time:20200905T090000
SUMMARY:Keep Fit
DESCRIPTION:Keep Fit classes have been meeting for over 15 years. Low impact exercise to improve your balance\, fitness level and a great way to make friends.\n\nVisitors welcome - please phone to check on social distancing regulations.\n
LOCATION:North Arm Cove Community Centre\, The Ridgeway\, North Arm Cove NSW 2324\, NSW\, 2324
RRULE:FREQ=WEEKLY;INTERVAL=1;BYDAY=MO,WE
END:VEVENT
END:VCALENDAR
