BEGIN:VCALENDAR
VERSION:2.0
PRODID:-//My Community Diary//iCal Event//EN
CALSCALE:GREGORIAN
METHOD:PUBLISH
BEGIN:VEVENT
UID:5da19803-3f0c-4e99-ab85-9e632d7097ef
DTSTAMP:20260424T154950Z
DTSTART:20200910T110000Z
DTEND:20200910T140000Z
SUMMARY:50 Plus Fitter
DESCRIPTION:Physical execises
LOCATION:Gould Adams Comm. Centre\, Gould Adams Comm. Centre\, 558-662 Kingston Rd Kingston\, QLD
RRULE:FREQ=WEEKLY;INTERVAL=1;BYDAY=TH
END:VEVENT
END:VCALENDAR
