BEGIN:VCALENDAR
VERSION:2.0
PRODID:-//My Community Diary//iCal Event//EN
CALSCALE:GREGORIAN
METHOD:PUBLISH
BEGIN:VEVENT
UID:c0f1e471-90b3-4a07-8c5e-cec8f47ffb23
DTSTAMP:20260424T164722Z
DTSTART:20211203T170000Z
DTEND:20211203T210000Z
SUMMARY:Soul Night Market Brighton
DESCRIPTION:Shop\, Eat\, Drink and Socialise at this festive\, foodie and makers market held in Melbourne’s South East Suburbs\, giving people the opportunity to experience a taste of the vibe and culture of City Night Markets\, in their own neighbourhood and also features live Soul Music Acts.\n\nSoul has proved hugely popular in Bayside with thousands flocking to shop\, eat\, drink and socialise at one of the most spectacular locations in Australia\, Green Point Reserve in Brighton Beach\, offering unrivalled views of the bay and city.\n \nThe boutique market has over 60 high-end maker stalls with food trucks from around the world and local craft beer\, wine\, champagne and cocktails\, plus market stalls featuring art\, fashion\, home products\, jewellery and personal care stalls.\n\nThe Brighton Market will be held the first Friday of the month in December\, January\, February and March.
LOCATION:\, 2 Esplanade\, Brighton\, VIC 3186\, VIC\, 3186
RRULE:FREQ=DAILY;INTERVAL=1;UNTIL=20240302T000000Z
END:VEVENT
END:VCALENDAR
