BEGIN:VCALENDAR
VERSION:2.0
PRODID:-//My Community Diary//iCal Event//EN
CALSCALE:GREGORIAN
METHOD:PUBLISH
BEGIN:VEVENT
UID:71a26b63-15f2-409e-b703-a800a8f234a2
DTSTAMP:20260424T155125Z
DTSTART;TZID=E. Australia Standard Time:20200904T190000
DTEND;TZID=E. Australia Standard Time:20200904T210000
SUMMARY:Narcotics Anonymous
DESCRIPTION:Narcotics Anonymous is a nonprofit fellowship or society of men and women for whom drugs had become a major problem.&nbsp\; We are recovering addicts who meet regularly to help each other stay clean.\n\nWe have found through our group experience that the therapeutic value of one addict helping another is without parallel.\n
LOCATION:Beenleigh Neighbourhood Centre \, 10-12 James Street\, Beenleigh QLD 4207\, QLD\, 4207
RRULE:FREQ=WEEKLY;INTERVAL=1;BYDAY=FR
END:VEVENT
END:VCALENDAR
