BEGIN:VCALENDAR
VERSION:2.0
PRODID:-//My Community Diary//iCal Event//EN
CALSCALE:GREGORIAN
METHOD:PUBLISH
BEGIN:VEVENT
UID:a70864f1-77e2-41d9-89ef-d6cac2b0cad8
DTSTAMP:20260424T160633Z
DTSTART;TZID=E. Australia Standard Time:20200905T083000
DTEND;TZID=E. Australia Standard Time:20200905T093000
SUMMARY:Ninjutsu (Kids)
DESCRIPTION:The Bujinkan Dojo consists of nine traditional schools\, or Ryuha\, that are under the guidance and instruction of Soke Masaaki Hatsumi who is the Gradmaster of Bujinkan.\n\nIn the Bujinkan we study very effective techniques that have evolved over a 1000-year period of warfare and peace in Japan. Some of the unarmed techniques practiced involve punches\, kicks\, throws\, grabs\, joint locks\, pressure point control\, grappling and many more. Some of the weapons we practice are swords\, spears and halberds\, sticks and staffs\, knives\, chains\, truncheons\, ropes and Ninga weapons such as shuriken (throwing stars) and shuki (hand claws).\n\nBujinkan Budo Taijutsu uses natural movement to overcome speed and power. Movement is refined for grace and naturalness while “true strength” is developed from subtly of movement\, evasiveness\, adjustment of position and the use of the body as a whole. Jissen Gata\, real fighting style\, is the driving force behind all techniques and always stressed during training.\n\nThe&nbsp\;Self-Defence training&nbsp\;of the Bujinkan Dojo is&nbsp\;suitable for all people regardless of gender\, size\, shape or level of fitness. Bujinkan Budo Taijutsu is very unique amongst most Martial Arts practiced today in that it has retained its warrior heritage while still being effective in these modern times.\n
LOCATION:Beenleigh Neighbourhood Centre \, 10-12 James Street\, Beenleigh QLD 4207\, QLD\, 4207
RRULE:FREQ=WEEKLY;INTERVAL=1;BYDAY=SA
END:VEVENT
END:VCALENDAR
