BEGIN:VCALENDAR
VERSION:2.0
PRODID:-//My Community Diary//iCal Event//EN
CALSCALE:GREGORIAN
METHOD:PUBLISH
BEGIN:VEVENT
UID:c8a97631-03bf-4097-bfb1-1f523cadf76b
DTSTAMP:20260424T155958Z
DTSTART;TZID=E. Australia Standard Time:20200908T190000
DTEND;TZID=E. Australia Standard Time:20200908T203000
SUMMARY:Soroptimist International
DESCRIPTION:Founded in 1921\, Soroptimist International is a global volunteer movement with a network of around 72\,000 club members in 121 countries. Advocating for human rights and gender equality\, at the heart of Soroptimist International’s advocacy is its work across eight UN Centres\, where our UN representatives ensure that the voices of women and girls are heard. Our membership work on grassroots projects that help women and girls achieve their individual and collective potential\, realise aspirations and have an equal voice in communities worldwide.\n
LOCATION:Beenleigh Neighbourhood Centre \, 10-12 James Street\, Beenleigh QLD 4207\, QLD\, 4207
RRULE:FREQ=WEEKLY;INTERVAL=1;BYDAY=TU
END:VEVENT
END:VCALENDAR
