BEGIN:VCALENDAR
VERSION:2.0
PRODID:-//My Community Diary//iCal Event//EN
CALSCALE:GREGORIAN
METHOD:PUBLISH
BEGIN:VEVENT
UID:f765d2bd-0352-44b2-a5fb-cb4f630760e6
DTSTAMP:20260424T155126Z
DTSTART;TZID=E. Australia Standard Time:20200918T093000
DTEND;TZID=E. Australia Standard Time:20200918T123000
SUMMARY:International Cooking Club
DESCRIPTION:A different and delicious food recipe from around the world every fortnight. This activity is part of Logan City Council’s&nbsp\;Live Well Logan&nbsp\;initiative.\n
LOCATION:Beenleigh Neighbourhood Centre \, 10-12 James Street\, Beenleigh QLD 4207\, QLD\, 4207
RRULE:FREQ=MONTHLY;INTERVAL=1;BYDAY=3MO
END:VEVENT
END:VCALENDAR
