BEGIN:VCALENDAR
VERSION:2.0
PRODID:-//My Community Diary//iCal Event//EN
CALSCALE:GREGORIAN
METHOD:PUBLISH
BEGIN:VEVENT
UID:1f3439c2-77ae-4958-9e0d-cc9bc54dce73
DTSTAMP:20260424T160844Z
DTSTART;TZID=E. Australia Standard Time:20200831T093000
DTEND;TZID=E. Australia Standard Time:20200831T123000
SUMMARY:Beenleigh Art Group
DESCRIPTION:Beenleigh Art Group\n
LOCATION:Beenleigh Neighbourhood Centre \, 10-12 James Street\, Beenleigh QLD 4207\, QLD\, 4207
RRULE:FREQ=WEEKLY;INTERVAL=1;BYDAY=MO
END:VEVENT
END:VCALENDAR
