BEGIN:VCALENDAR
VERSION:2.0
PRODID:-//My Community Diary//iCal Event//EN
CALSCALE:GREGORIAN
METHOD:PUBLISH
BEGIN:VEVENT
UID:0ff24853-40e2-4a52-9ddb-25db97a9552c
DTSTAMP:20260424T155959Z
DTSTART;TZID=E. Australia Standard Time:20200903T090000
DTEND;TZID=E. Australia Standard Time:20200903T154500
SUMMARY:JPs in the Community
DESCRIPTION:Available:\n\nMonday – Friday (9:00 a.m. – 3:45 p.m.)\n\n* The program does not operate on weekends or public holidays\,.\n* This is a walk-in and wait service\, appointments are not available.\n\nTelephone:&nbsp\;(07) 3287 2840\n\nEmail:&nbsp\;bdcda@beenleigh.org.au\n\n* If our volunteer is unavailable or you require assistance after-hours please&nbsp\;click here&nbsp\;to search for your nearest JP or Cdec.\n
LOCATION:Beenleigh Neighbourhood Centre \, 10-12 James Street\, Beenleigh QLD 4207\, QLD\, 4207
RRULE:FREQ=WEEKLY;INTERVAL=1;BYDAY=MO,TU,WE,TH,FR
END:VEVENT
END:VCALENDAR
