BEGIN:VCALENDAR
VERSION:2.0
PRODID:-//My Community Diary//iCal Event//EN
CALSCALE:GREGORIAN
METHOD:PUBLISH
BEGIN:VEVENT
UID:de56c4ce-11ad-43a6-a3a3-12d9cbad1753
DTSTAMP:20260424T160820Z
DTSTART;TZID=E. Australia Standard Time:20200917T100000
DTEND;TZID=E. Australia Standard Time:20200917T113000
SUMMARY:Monthly Seniors Morning Tea
DESCRIPTION:Monthly Seniors Morning Tea Series\n\nJust Better Care Brisbane North and CBD invites you to attend our Monthly Seniors Morning Tea events.\n\nWhere: Just Better Care Brisbane North\,&nbsp\;1425 Anzac Avenue\, Kallangur\n\nWhen: 10am - 11:30am\, on the 3rd Thursday each month\n\nEach event will include special guest speakers&nbsp\;and morning tea.\n\nIt’s free to attend but numbers are limited to ensure we remain Covid safe\, so register your attendance by calling us on 07 3056 0777 or emailing mailbn@justbettercare.com.\n
LOCATION:Just Better Care Brisbane North\, 6 Patricks Road Arana Hills QLD 4054\, QLD\, 4054
RRULE:FREQ=MONTHLY;INTERVAL=1;BYDAY=3MO
END:VEVENT
END:VCALENDAR
