BEGIN:VCALENDAR
VERSION:2.0
PRODID:-//My Community Diary//iCal Event//EN
CALSCALE:GREGORIAN
METHOD:PUBLISH
BEGIN:VEVENT
UID:cca500f9-23fe-4895-8308-3c8da107abeb
DTSTAMP:20260424T160641Z
DTSTART;VALUE=DATE:20200901
DTEND;VALUE=DATE:20200902
SUMMARY:3D Virtual Exhibition Tour
DESCRIPTION:Now you can take an online tour of the Coffs Harbour Regional Museum!\n\nClick here to take your online 3D Virtual Tour.&nbsp\;\n\nThis exciting new virtual tour allows you to explore the museum room-by-room from the comfort of your home or on your mobile device. You will find our exhibitions and a number of pieces from the collection labelled with links to further information on our Coffs Collections page plus interesting stories on our Heritage blog. Of course\, we would love you to also visit us in person for the full museum experience with one of our expert guides!\n\nDiscover our current exhibitions including Bananas to Beautizone\, which explores how the experience of summer has changed in the Coffs Coast region. The Tasma Theatre exhibition showcases Coffs Harbour’s 1937 Art Deco cinema\, including the original projector and seats. Learn the stories from local elders of the Gumbaynggirr community\, the original custodians of the land. Find artefacts from Coffs Harbour’s maritime history including the South Solitary Island Lighthouse. Our newest exhibit is a detailed model of Coffs Harbour’s original 1906 Police Station and Court House\, the heritage-listed building which now houses our museum.\n\n***This 3D virtual tour was created and generously donated by local photographer Toni Fuller.***\n
LOCATION:Coffs Harbour Regional Museum\, 215 Harbour Drive\, Coffs Harbour NSW 2450\, NSW\, 2450
RRULE:FREQ=DAILY;INTERVAL=1;UNTIL=20210902T000000Z
END:VEVENT
END:VCALENDAR
