BEGIN:VCALENDAR
VERSION:2.0
PRODID:-//My Community Diary//iCal Event//EN
CALSCALE:GREGORIAN
METHOD:PUBLISH
BEGIN:VEVENT
UID:28358111-4dbe-489b-ac5f-ce53b2881d04
DTSTAMP:20260421T222315Z
DTSTART;TZID=E. Australia Standard Time:20200816T093000
DTEND;TZID=E. Australia Standard Time:20200816T110000
SUMMARY:Church Service
DESCRIPTION:Join our weekly Church&nbsp\;service at 9:30am where we serve morning tea following the service. Keeping our community safe is important so we follow a strict COVID Safe plan developed by our Leadership Team. We are currently meeting at Geham State School in their Hall\, due to our Church building still being under construction.\n
LOCATION:Geham State School \, 9625 New England Highway\, Geham QLD 4352\, Australia\, QLD\, 4352
RRULE:FREQ=WEEKLY;INTERVAL=1;BYDAY=SU
END:VEVENT
END:VCALENDAR
