BEGIN:VCALENDAR
VERSION:2.0
PRODID:-//My Community Diary//iCal Event//EN
CALSCALE:GREGORIAN
METHOD:PUBLISH
BEGIN:VEVENT
UID:3c5f199a-7bd4-4d98-a244-aa4d80bd809e
DTSTAMP:20260424T163709Z
DTSTART;TZID=W. Australia Standard Time:20200729T090000
DTEND;TZID=W. Australia Standard Time:20200729T110000
SUMMARY:Craft Group
DESCRIPTION:BBC Craft welcomes ladies of all ages. If you love to meet together whilst working on your favourite craft project\, then we have a space for you!\n\nYou can contact the office on 9754 8001 or email admin@busseltonbaptist.org.au. Head to our website for more info and our registration form&nbsp\;https://www.busseltonbaptist.org.au/hub\n\nLook forward to seeing you soon!\n
LOCATION:Busselton Baptist Community Church\, 2 Recreation Lane\, West Busselton WA 6280\, WA\, 6280
RRULE:FREQ=WEEKLY;INTERVAL=1;BYDAY=WE
END:VEVENT
END:VCALENDAR
