BEGIN:VCALENDAR
VERSION:2.0
PRODID:-//My Community Diary//iCal Event//EN
CALSCALE:GREGORIAN
METHOD:PUBLISH
BEGIN:VEVENT
UID:1682ba80-c1d7-4557-8802-038b9dbc7951
DTSTAMP:20260424T173212Z
DTSTART;TZID=E. Australia Standard Time:20200828T173000
DTEND;TZID=E. Australia Standard Time:20200828T193000
SUMMARY:Manna from Heaven Sandgate Inc.
DESCRIPTION:Hot nutritious meal\n
LOCATION:\, Community Centre\, 153 Rainbow Street\, Sandgate QLD 4017\, QLD
RRULE:FREQ=MONTHLY;INTERVAL=1;BYDAY=3MO
END:VEVENT
END:VCALENDAR
