BEGIN:VCALENDAR
VERSION:2.0
PRODID:-//My Community Diary//iCal Event//EN
CALSCALE:GREGORIAN
METHOD:PUBLISH
BEGIN:VEVENT
UID:7c863d9e-5b1d-470d-b7b8-4a4b72bdd568
DTSTAMP:20260422T021025Z
DTSTART;TZID=E. Australia Standard Time:20200903T093000
DTEND;TZID=E. Australia Standard Time:20200903T143000
SUMMARY:Podiatry Outreach Clinic - Mitchell
DESCRIPTION:SWHHS provides clinical Podiatry Services for people who require assistance with General Nail and Foot Care.\n
LOCATION:Mitchell Multipurpose Health Service\, 95 Ann Street\, Mitchell QLD 4465\, QLD\, 4465
RRULE:FREQ=MONTHLY;INTERVAL=1;BYDAY=3MO
END:VEVENT
END:VCALENDAR
